BEGIN:VCALENDAR
CALSCALE:GREGORIAN
METHOD:PUBLISH
PRODID:-//IT-On.NET//bielefeld.jetzt//DE
VERSION:2.0
BEGIN:VEVENT
CLASS:PUBLIC
CREATED:20260420T180316Z
DESCRIPTION:https://www.bielefeld.jetzt/node/1621455\n\nWo Anna-Maria
 Zimmermann auftritt\, hält es niemanden lange auf den Sitzen.   \nIhre
 Songs gehen direkt ins Herz - und dann sofort in die Beine. Der moderne  
 \nSchlagerstar besitzt eine „universelle Party-Lizenz“. Auf der Bühne
 ist   \nsie DIE souveräne Party-Queen: hinreißend\, energiegeladen und
 absolut   \nmitreißend. \nDie Fans haben lange darauf gewartet – jetzt
 ist es endlich soweit: Mit   \nihrer „LIVE – 100 Prozent ich“ –
 Tour wird Anna-Maria Zimmermann im   \nMärz 2027 erstmals in Deutschland
 unterwegs sein. Ein absolutes Muss für   \nalle Fans! \nOb im Party-Modus
 oder mit ruhigen\, gefühlvollen Momenten: Mit ihrer   \npackenden
 Mischung aus Pop und Party-Schlager begeistert Anna-Maria   \nZimmermann
 seit über zwei Jahrzehnten ein generations-übergreifendes   \nPublikum
 und versteht es wie kaum eine andere Künstlerin\, ihre Fans von der  
 \nersten Minute an in den Bann zu ziehen. Sie ist sympathisch\, nahbar und
 nimmt   \nsich Zeit für ihr Publikum\, um einzigartige Fan-Erlebnisse zu
 schaffen. Eben   \n„100 Prozent ich“! \n(Stand: 20.04.2026)
DTSTAMP:20260303T005501Z
DTSTART:20270319T190000Z
GEO:52.037200;8.551310
LAST-MOD:20260415T235502Z
LOCATION:Lokschuppen
STATUS:CONFIRMED
SUMMARY:Anna-Maria Zimmermann - 100 Prozent Ich - Tour 2027
TRANSP:OPAQUE
UID:1621456
URL:https://www.bielefeld.jetzt/node/1621455
END:VEVENT
END:VCALENDAR
