BEGIN:VCALENDAR
CALSCALE:GREGORIAN
METHOD:PUBLISH
PRODID:-//IT-On.NET//bielefeld.jetzt//DE
VERSION:2.0
BEGIN:VEVENT
CLASS:PUBLIC
CREATED:20260420T203538Z
DESCRIPTION:https://www.bielefeld.jetzt/node/1621486\n\nDer Infostand
 steht auf dem Reichowplatz. \n \n(Stand: 20.04.2026)
DTEND:20260425T110000Z
DTSTAMP:20260303T151023Z
DTSTART:20260425T080000Z
GEO:51.946110;8.584800
LAST-MOD:20260303T151023Z
LOCATION:Bielefeld-Sennestadt
STATUS:CONFIRMED
SUMMARY:Insektenfreundliche Vorgärten
TRANSP:OPAQUE
UID:1621487
URL:https://www.bielefeld.jetzt/node/1621486
END:VEVENT
END:VCALENDAR
