BEGIN:VCALENDAR
CALSCALE:GREGORIAN
METHOD:PUBLISH
PRODID:-//IT-On.NET//bielefeld.jetzt//DE
VERSION:2.0
BEGIN:VEVENT
CLASS:PUBLIC
CREATED:20260420T201251Z
DESCRIPTION:https://www.bielefeld.jetzt/node/134679\n\nLeitung: Gabriele
 van Berkum \n \nTreffpunkt: Sennestadthaus \n \n(Stand: 20.04.2026)
DTEND:20260426T140000Z
DTSTAMP:20260303T151500Z
DTSTART:20260426T090000Z
GEO:51.945223;8.583590
LAST-MOD:20260303T151500Z
LOCATION:Sennestadthaus
STATUS:CONFIRMED
SUMMARY:Kleine Radtour durch die Senne
TRANSP:OPAQUE
UID:1621488
URL:https://www.bielefeld.jetzt/node/134679
END:VEVENT
END:VCALENDAR
