BEGIN:VCALENDAR
CALSCALE:GREGORIAN
METHOD:PUBLISH
PRODID:-//IT-On.NET//bielefeld.jetzt//DE
VERSION:2.0
BEGIN:VEVENT
CLASS:PUBLIC
CREATED:20260420T201257Z
DESCRIPTION:https://www.bielefeld.jetzt/node/1623760\n\nVortrag im Rahmen
 des Forschungskolloquiums Alte Geschichte \n \nFür eine Teilnahme via
 Zoom wenden Sie sich bitte an Iris Kukla:   \nikukla@uni-bielefeld.de \n
 \nRaum: X-E0-220 \n \n(Stand: 20.04.2026)
DTSTAMP:20260304T004501Z
DTSTART:20260512T160000Z
GEO:52.036500;8.495100
LAST-MOD:20260304T004501Z
LOCATION:Universität Bielefeld
STATUS:CONFIRMED
SUMMARY:Dr. Omar El Manfalouty (Zürich): Senatorische
 Geschichtsschreibung jenseits Roms? Charismatische Führerschaft und
 Herrschaftsrationalisierung in kaiserzeitlicher und frühabbasidischer
 Historiographie
TRANSP:OPAQUE
UID:1623761
URL:https://www.bielefeld.jetzt/node/1623760
END:VEVENT
END:VCALENDAR
