BEGIN:VCALENDAR
CALSCALE:GREGORIAN
METHOD:PUBLISH
PRODID:-//IT-On.NET//bielefeld.jetzt//DE
VERSION:2.0
BEGIN:VEVENT
CLASS:PUBLIC
CREATED:20260424T103405Z
DESCRIPTION:https://www.bielefeld.jetzt/node/1623768\n\nVortrag im Rahmen
 des Forschungskolloquiums Alte Geschichte \n \nFür eine Teilnahme via
 Zoom wenden Sie sich bitte an Iris Kukla:   \nikukla@uni-bielefeld.de [1]
 \n \nRaum: X-E0-220 \n \n \n[1] mailto:ikukla@uni-bielefeld.de \n(Stand:
 24.04.2026)
DTSTAMP:20260304T004501Z
DTSTART:20260721T160000Z
GEO:52.036500;8.495100
LAST-MOD:20260304T004501Z
LOCATION:Universität Bielefeld
STATUS:CONFIRMED
SUMMARY:Prof. Dr. Andrew Monson (Würzburg): Alexander\, Aśoka und Zheng:
 Drei antike Könige und die Entstehung der modernen Welt
TRANSP:OPAQUE
UID:1623769
URL:https://www.bielefeld.jetzt/node/1623768
END:VEVENT
END:VCALENDAR
