BEGIN:VCALENDAR
CALSCALE:GREGORIAN
METHOD:PUBLISH
PRODID:-//IT-On.NET//bielefeld.jetzt//DE
VERSION:2.0
BEGIN:VEVENT
CLASS:PUBLIC
CREATED:20260421T195115Z
DESCRIPTION:https://www.bielefeld.jetzt/node/1623786\n\nTreffpunkt
 am Sennestadtpavillon\, Sennestadtring 15a \n \n(Stand: 21.04.2026)
DTSTAMP:20260304T103339Z
DTSTART:20260913T120000Z
GEO:51.946110;8.584800
LAST-MOD:20260304T103339Z
LOCATION:Bielefeld-Sennestadt
STATUS:CONFIRMED
SUMMARY:Stadtrundgang durch Sennestadt am Tag des offenen Denkmals
TRANSP:OPAQUE
UID:1623787
URL:https://www.bielefeld.jetzt/node/1623786
END:VEVENT
END:VCALENDAR
