BEGIN:VCALENDAR
CALSCALE:GREGORIAN
METHOD:PUBLISH
PRODID:-//IT-On.NET//bielefeld.jetzt//DE
VERSION:2.0
BEGIN:VEVENT
CLASS:PUBLIC
CREATED:20260420T043130Z
DESCRIPTION:https://www.bielefeld.jetzt/node/1626133\n\n„Requiem für
 Hase“ ist eine interdisziplinäre Performance\, in der die  
 \nFotografien von Veit Mette und die Musik von Markus Schwartze in einen  
 \nunmittelbaren\, live entstehenden Dialog treten. \n \nDie großformatig
 projizierten Mehrfachbelichtungen zeigen tote Tiere in   \nwürdevoller
 Inszenierung und eröffnen ein Spannungsfeld zwischen fragiler  
 \nSchönheit und harter Realität. Schwartze reagiert mit eigenen
 Kompositionen   \nund Improvisationen auf die Bildfolge und entwickelt
 Klangräume zwischen   \nschwebenden Flächen\, virtuosen Texturen und
 melancholischen Motiven. Es   \nentsteht ein intensives Zusammenspiel\,
 das die visuellen Motive kontrastiert\,   \nerweitert und emotional
 vertieft. \n \nVeit Mette: Fotos\, Visuals \nMarkus Schwartze: Klavier\,
 Elektronik \n \nDie Performance findet im Rahmen der Nachtansichten 2026
 statt\, immer zur   \nvollen Stunde (19:00\, 20:00\, 21:00 und 22:00) im
 Vortragssaal der Kunsthalle   \nBielefeld \n \nInterdisziplinäre
 Performance zu den Nachtansichten von Veit Mette und   \nMarkus Schwartze
 \n \n(Stand: 20.04.2026)
DTEND:20260425T201500Z
DTSTAMP:20260305T001501Z
DTSTART:20260425T170000Z
GEO:52.018100;8.525970
LAST-MOD:20260305T001501Z
LOCATION:Kunsthalle Bielefeld
STATUS:CONFIRMED
SUMMARY:„Requiem für Hase“
TRANSP:OPAQUE
UID:1626134
URL:https://www.bielefeld.jetzt/node/1626133
END:VEVENT
END:VCALENDAR
