BEGIN:VCALENDAR
CALSCALE:GREGORIAN
METHOD:PUBLISH
PRODID:-//IT-On.NET//bielefeld.jetzt//DE
VERSION:2.0
BEGIN:VEVENT
CLASS:PUBLIC
CREATED:20260420T044330Z
DESCRIPTION:https://www.bielefeld.jetzt/node/1626135\n\nKurzführungen in
 der Mittagspause mit einem kurzen\, aber intensiven Blick   \nauf ein
 Thema oder ein Kunstwerk. Dieses Mal nimmt Kurator Benedikt   \nFahrnschon
 Sie mit in die Ausstellung „Yael Bartana. Mir Zaynen Do!“. \n \nim
 Eintritt inbegriffen \nmit Benedikt Fahrnschon \n \n(Stand: 20.04.2026)
DTEND:20260505T110000Z
DTSTAMP:20260305T001501Z
DTSTART:20260505T103000Z
GEO:52.018100;8.525970
LAST-MOD:20260305T001501Z
LOCATION:Kunsthalle Bielefeld
STATUS:CONFIRMED
SUMMARY:Kunstpause: Yael Bartana
TRANSP:OPAQUE
UID:1626136
URL:https://www.bielefeld.jetzt/node/1626135
END:VEVENT
END:VCALENDAR
