BEGIN:VCALENDAR
CALSCALE:GREGORIAN
METHOD:PUBLISH
PRODID:-//IT-On.NET//bielefeld.jetzt//DE
VERSION:2.0
BEGIN:VEVENT
CLASS:PUBLIC
CREATED:20260420T044330Z
DTSTAMP:20260305T005501Z
DTSTART:20260520T180000Z
GEO:52.030442;8.529154
LAST-MOD:20260305T005501Z
LOCATION:Forum Bielefeld - Boge Fabrik
STATUS:CONFIRMED
SUMMARY:-(16)-
TRANSP:OPAQUE
UID:1626143
URL:https://www.bielefeld.jetzt/node/1626142
END:VEVENT
END:VCALENDAR
