BEGIN:VCALENDAR
CALSCALE:GREGORIAN
METHOD:PUBLISH
PRODID:-//IT-On.NET//bielefeld.jetzt//DE
VERSION:2.0
BEGIN:VEVENT
CLASS:PUBLIC
CREATED:20260421T144507Z
DESCRIPTION:https://www.bielefeld.jetzt/node/1626246\n\nAm 07. Mai
 verwandelt sich das YUCA in Köln in ein düster schimmerndes  
 \nKlanguniversum: House of Harm bringen ihren melancholisch-treibenden
 Sound in   \ndie Domstadt. \nDie Band steht für eine intensive Mischung
 aus Post-Punk\, Darkwave und   \nAlternative Rock – kühl\,
 atmosphärisch und gleichzeitig voller   \nemotionaler Wucht. Zwischen
 flirrenden Gitarrenflächen\, pulsierenden   \nBasslines und
 eindringlichem Gesang entstehen Songs\, die gleichermaßen   \ntanzbar wie
 introspektiv sind. House of Harm schaffen es\, die Ästhetik  
 \nklassischer 80s-Wave-Einflüsse in ein modernes Gewand zu kleiden\, ohne
 dabei   \nan Eigenständigkeit zu verlieren. \nLive überzeugt die Band
 mit einer dichten\, hypnotischen Performance\, die das   \nPublikum
 unmittelbar in ihren Bann zieht. Statt großer Gesten setzen House   \nof
 Harm auf Stimmung\, Dynamik und Tiefe – ein Soundtrack für lange
 Nächte   \nzwischen Ekstase und Melancholie. \n(Stand: 21.04.2026)
DTSTAMP:20260306T005501Z
DTSTART:20260508T180000Z
GEO:52.028300;8.533240
LAST-MOD:20260306T005501Z
LOCATION:Movie
STATUS:CONFIRMED
SUMMARY:House of Harm
TRANSP:OPAQUE
UID:1626247
URL:https://www.bielefeld.jetzt/node/1626246
END:VEVENT
END:VCALENDAR
