BEGIN:VCALENDAR
CALSCALE:GREGORIAN
METHOD:PUBLISH
PRODID:-//IT-On.NET//bielefeld.jetzt//DE
VERSION:2.0
BEGIN:VEVENT
CLASS:PUBLIC
CREATED:20260424T163740Z
DESCRIPTION:https://www.bielefeld.jetzt/node/1633127\n\nDie *Gruppe
 \nDramaclλn \n*zeigt ihre neue Produktion »*In lauter Stille*«\, in der
 sie verschiedenen   \nFragen nachgeht: Was bedeutet es\, still zu sein?
 Und was\, wenn die Stille   \nplötzlich laut wird – so laut\, dass sie
 unerträglich wird? Kann man dann   \nnoch schweigen? Kann man dann noch
 wegsehen? Die Gruppe Dramaclλn kann es   \nnicht. Sie erhebt ihre
 Stimmen\, um das zu sagen\, was zählt. \n \nNeun junge Menschen haben
 sich mit dem Thema Stille auseinandergesetzt. Sie   \nhaben gefragt\,
 gefühlt\, gestritten. Sie waren wütend\, weil ihnen niemand   \nzuhört.
 Wütend\, weil Menschen der Raum genommen wird. Ein Raum zum Leben. \n
 \nSie beschlossen\, diesen Raum selbst zu schaffen. Mit kreativem
 Schreiben\, mit   \neigenen Szenen\, mit Diskussionen und
 Auseinandersetzungen. Sie haben   \nbeschlossen: *Sie sind nicht länger
 still.* \n \nGefördert durch das Ministerium für Kinder\, Familie\,
 Flüchtlinge und   \nIntegration des Landes Nordrhein-Westfalen\, die LKJ
 Landesvereinigung   \nKulturelle Jugendarbeit NRW e.V. und das Kulturamt
 Bielefeld \n \n(Stand: 24.04.2026)
DTSTAMP:20260309T100019Z
DTSTART:20260514T170000Z
GEO:52.018800;8.541000
LAST-MOD:20260309T100019Z
LOCATION:Tor 6 Theaterhaus Bielefeld
STATUS:CONFIRMED
SUMMARY:Gruppe Dramaclλn: »In lauter Stille«
TRANSP:OPAQUE
UID:1633128
URL:https://www.bielefeld.jetzt/node/1633127
END:VEVENT
END:VCALENDAR
