BEGIN:VCALENDAR
CALSCALE:GREGORIAN
METHOD:PUBLISH
PRODID:-//IT-On.NET//bielefeld.jetzt//DE
VERSION:2.0
BEGIN:VEVENT
CLASS:PUBLIC
CREATED:20260424T163628Z
DESCRIPTION:https://www.bielefeld.jetzt/node/1633131\n\nDas
 *Fairstival*-Team kehrt mit einem vielseitigen Ein-Tages-Festival zurück 
  \n– in Kooperation mit /Künstlerinnen aus Westfalen weltweit/ geben
 FLINTA*   \nden Ton auf der Bühne an. Die *Ravensberger Spinnerei* wird
 zum Schauplatz   \nausgewählter Bands und DJ*s\, von Reggae und Klezmer
 bis hin zu Hip-Hop und   \nelektronischen Beats. Neben der
 Club-Atmosphäre mit Indoor-Bühne gibt es   \neinen bunten Außenbereich
 inklusive Soundsystem und einer Vielzahl von   \nStänden und Angeboten
 rund um ökologische Nachhaltigkeit und soziale   \nGerechtigkeit. Ein
 abwechslungsreiches Workshop-Programm\, leckere Drinks und   \nEssen sowie
 eine Chill-Area laden zum Verweilen ein. \n \n  \n \n*Fairstival e.V. in
 Kooperation mit Welthaus Bielefeld e.V.\, der VHS   \nBielefeld und dem
 Historischen Museum Bielefeld* | Gefördert durch das   \nMinisterium für
 Kultur und Wissenschaft des Landes NRW und das Kulturamt   \nBielefeld \n
 \n(Stand: 24.04.2026)
DTSTAMP:20260309T100622Z
DTSTART:20260711T130000Z
GEO:52.023100;8.543340
LAST-MOD:20260309T100622Z
LOCATION:Ravensberger Spinnerei / VHS
STATUS:CONFIRMED
SUMMARY:Fairstival: »Setting the Tone« 
TRANSP:OPAQUE
UID:1633132
URL:https://www.bielefeld.jetzt/node/1633131
END:VEVENT
END:VCALENDAR
