BEGIN:VCALENDAR
CALSCALE:GREGORIAN
METHOD:PUBLISH
PRODID:-//IT-On.NET//bielefeld.jetzt//DE
VERSION:2.0
BEGIN:VEVENT
CLASS:PUBLIC
CREATED:20260421T144008Z
DESCRIPTION:https://www.bielefeld.jetzt/node/1530896\n\n \nEin Nachmittag
 für alle\, die gerne ausprobieren\, experimentieren oder   \neinfach
 kreativ sein wollen. Zweimal im Monat öffnet die Wissenswerkstadt  
 \nsamstagnachmittags die Tüftelei\, kostenlos und ohne Voranmeldung für
 alle   \n– auch für Kinder ab 3 Jahren.  Zwischen 13 und 17 Uhr
 warten auf die   \nBesucher:innen immer verschiedene Dinge zum
 Herumtüfteln und   \nExperimentieren. \nKinder bis 10 Jahre können nur
 in Begleitung mitmachen.  \n \n(Stand: 21.04.2026)
DTEND:20260704T150000Z
DTSTAMP:20260310T111452Z
DTSTART:20260704T110000Z
GEO:52.023900;8.535310
LAST-MOD:20260310T111452Z
LOCATION:Wissenswerkstadt Bielefeld
STATUS:CONFIRMED
SUMMARY:Tüftel-Nachmittag
TRANSP:OPAQUE
UID:1635496
URL:https://www.bielefeld.jetzt/node/1530896
END:VEVENT
END:VCALENDAR
