BEGIN:VCALENDAR
CALSCALE:GREGORIAN
METHOD:PUBLISH
PRODID:-//IT-On.NET//bielefeld.jetzt//DE
VERSION:2.0
BEGIN:VEVENT
CLASS:PUBLIC
CREATED:20260423T184641Z
DESCRIPTION:https://www.bielefeld.jetzt/node/1591669\n\nTeilnehmende\, die
 zwei Wochen lang die Säle der Rudolf-Oetker-Halle belebt   \nhaben\,
 zeigen unter der Leitung ihrer Dozent*innen beeindruckende  
 \nPerformances – von Klassischem Ballett bis Hip-Hop. Zum furiosen
 *Finale   \ndes Tanzfestivals* präsentieren die Kursteilnehmer*innen
 Choreographien\, die   \nsie in den Workshops erlernt haben. \n \nSchon zu
 Beginn des Abends wird den Jüngsten\, sei es in den Hip-Hop oder in  
 \nden Modern Jazz-Kursen\, jubelnder Applaus sicher sein. Wenn dann die
 Eleganz   \ndes Tap Dance\, die körperbetonte Sprache des Modern Dance
 oder die   \nerdverbundenen Rhythmen des Flamencos mit der Energie des
 zeitgenössischen   \nTanzes verschmelzen\, erreicht die Stimmung ihren
 Höhepunkt. \n \nFreuen Sie sich auf spannende Einblicke in die Welt des
 Tanzes\, von   \nDancehall\, Whacking\, Hip-Hop\, New Style über
 Klassisches Ballett\, Jazz   \nDance\, Modern Jazz bis hin zu
 Mixed-Abled\, Contemporary und Afro   \nContemporary! \n \nDauer ca. 120
 Min. \n \n(Stand: 23.04.2026)
DTSTAMP:20260311T221501Z
DTSTART:20260801T183000Z
GEO:52.027900;8.513150
LAST-MOD:20260312T221501Z
LOCATION:Rudolf-Oetker-Halle
STATUS:CONFIRMED
SUMMARY:Tanzfestival Bielefeld - Finale
TRANSP:OPAQUE
UID:1638497
URL:https://www.bielefeld.jetzt/node/1591669
END:VEVENT
END:VCALENDAR
