BEGIN:VCALENDAR
CALSCALE:GREGORIAN
METHOD:PUBLISH
PRODID:-//IT-On.NET//bielefeld.jetzt//DE
VERSION:2.0
BEGIN:VEVENT
CLASS:PUBLIC
CREATED:20260425T155017Z
DESCRIPTION:https://www.bielefeld.jetzt/node/1591658\n\nDie *imPerfect
 Dancers Company* ist mit ihrem Repertoire weltweit auf Tournee   \nund
 erhalt in der Tanzszene renommierte Auszeichnungen und großartige  
 \nKritiken. Mit Begeisterung präsentiert das Ensemble der seit 2011  
 \nansässigen Tanzkompanie des Pisa Opera und Ballett Theaters in Italien
 nun   \nseine gefeierte Produktion* „Othello“*. \n \nAus einer
 explosiven und kreativen Energie entstanden\, verbindet diese  
 \nProduktion Gebärdensprache\, Humor\, Videoprojektionen und die aktive  
 \nBeteiligung des Publikums. Inspiriert von Shakespeares „Othello“  
 \nerforscht das Stück die Tiefen der menschlichen Seele in einer bewusst
 zeit-   \nund ortlosen Welt. Im Zentrum der Aufführung prallen Liebe\,
 Eifersucht\, Zorn   \nund Hass aufeinander. Drei Figuren – Othello\,
 Desdemona und Iago –   \neröffnen drei mögliche Perspektiven. Das
 Publikum wählt den Weg und   \nbeeinflusst so Verlauf und Ausgang der
 Geschichte. Geleitet von einem   \ncharismatischen Zeremonienmeister
 entsteht eine sich ständig wandelnde   \nInszenierung voller humorvoller
 Momente. Hier ist das Publikum nicht nur   \nZuschauer\, sondern
 Meister*in des Spiels. \n \n*Choreographie: *Walter Matteini\, Ina Broeckx
 \n \n*Interpret*innen:* Mariana Vargas\, Diago Alves\, Bastian Borel\,
 Carla   \nBoffa\, Despoina Mitsoula\, Ane Brigitte Tveite\, Rafael
 Belinha \n \n*Musik:* Ezio Bosso\, Olafur Arnalds\, Max Richter\, AC/DC\,
 Metallica\, Divan   \nGattamorta \n \n*Kostüme + Bühne:* Ina Broeckx \n
 \n*Lichtdesign:* Walter Matteini \n \nDauer ca. 70 Min. \n \n(Stand:
 25.04.2026)
DTSTAMP:20260311T221501Z
DTSTART:20260721T183000Z
GEO:52.018800;8.541000
LAST-MOD:20260312T221501Z
LOCATION:Tor 6 Theaterhaus Bielefeld
STATUS:CONFIRMED
SUMMARY:imPerfect Dancers Company: »Othello«
TRANSP:OPAQUE
UID:1638498
URL:https://www.bielefeld.jetzt/node/1591658
END:VEVENT
END:VCALENDAR
