BEGIN:VCALENDAR
CALSCALE:GREGORIAN
METHOD:PUBLISH
PRODID:-//IT-On.NET//bielefeld.jetzt//DE
VERSION:2.0
BEGIN:VEVENT
CLASS:PUBLIC
CREATED:20260421T143815Z
DESCRIPTION:https://www.bielefeld.jetzt/node/1325929\n\n*Kinder
 diskutieren und schreiben über Bücher und geben Lesetipps* \n \nBist du
 zwischen 8 und 12 Jahren alt und liest für dein Leben gerne Bücher?  
 \nDann bist du in der Kinderredaktion genau richtig. Wir treffen uns
 dreimal im   \nMonat montags in der Zeit von 16:30 bis 18:00 Uhr. Hier
 diskutieren wir über   \naktuelle Bücher\, schreiben darüber und küren
 unseren monatlichen Lesetipp   \nfür Kinder. \n \nFür bücherbegeisterte
 Kinder von 8 bis 12 Jahren. \nOrt: Kinderzimmer | EG \n*Der Eintritt ist
 frei.* \nEine Anmeldung ist erforderlich. \nWeitere Informationen und
 Anmeldung unter 0521/51-3496. \n \n  \n \n(Stand: 21.04.2026)
DTEND:20260427T160000Z
DTSTAMP:20260319T093011Z
DTSTART:20260427T143000Z
GEO:52.026700;8.536930
LAST-MOD:20260319T093011Z
LOCATION:Stadtbibliothek
STATUS:CONFIRMED
SUMMARY:Kinderredaktion - Kinder schreiben über Bücher und geben
 Lesetipps
TRANSP:OPAQUE
UID:1654484
URL:https://www.bielefeld.jetzt/node/1325929
END:VEVENT
END:VCALENDAR
