BEGIN:VCALENDAR
CALSCALE:GREGORIAN
METHOD:PUBLISH
PRODID:-//IT-On.NET//bielefeld.jetzt//DE
VERSION:2.0
BEGIN:VEVENT
CLASS:PUBLIC
CREATED:20260424T163948Z
DESCRIPTION:https://www.bielefeld.jetzt/node/1656914\n\n*GANGUIN* ist das
 Projekt des Bielefelder Singer-Songwriters Marcel Ganguin\,   \nder seit
 über zehn Jahren deutschsprachige Songs zwischen Indiepop\, Folk und  
 \nPunkrock schreibt – melancholisch\, euphorisch und nah am Leben. \n
 \n*La Mer Étale* ist ein Bielefelder Trio\, das seit 2015 vorwiegend  
 \ninstrumentale Musik zwischen Postrock\, Ambient und Indie schafft –  
 \natmosphärisch\, experimentierfreudig und bewusst reduziert. \n \n*Ian
 Tray* hat noch immer den Sand australischer Strände in den Schuhen. Ein  
 \nReisender\, der immer die Gitarre griffbereit hat. Er sammelt
 Erinnerungen\,   \nImpressionen\, Gespräche – im rüttelnden Bus\, in
 einer Bar oder unter dem   \nendlosen Sternenhimmel der südlichen
 Hemisphäre – und verpackt sie in   \nmitreißende Songs \n \n(Stand:
 24.04.2026)
DTSTAMP:20260320T102718Z
DTSTART:20260722T164500Z
GEO:52.024200;8.537140
LAST-MOD:20260320T102718Z
LOCATION:Kesselbrink
STATUS:CONFIRMED
SUMMARY:Summer Soundz: Ganguin & La Mer Étale & Ian Tray
TRANSP:OPAQUE
UID:1656915
URL:https://www.bielefeld.jetzt/node/1656914
END:VEVENT
END:VCALENDAR
