BEGIN:VCALENDAR
CALSCALE:GREGORIAN
METHOD:PUBLISH
PRODID:-//IT-On.NET//bielefeld.jetzt//DE
VERSION:2.0
BEGIN:VEVENT
CLASS:PUBLIC
CREATED:20260424T103216Z
DESCRIPTION:https://www.bielefeld.jetzt/node/1698801\n\n“Natürlich
 Einschlingen” Veranstaltungsreihe \nDie Insektengruppe der Wildbienen
 überrascht mit ihrem Artenreichtum und   \nzahlreichen faszinierenden
 Anpassungen in der Nahrungssuche und im   \nNistverhalten. Die Exkursion
 führt uns in den Garten und das Umfeld der   \nBildungsstätte
 Einschlingen. Hier gehen wir auf die Suche nach Wildbienen\,   \num sie in
 ihren Lebensräumen beim Blütenbesuch zu beobachten. \nBeitrag: kostenlos
 \nReferent: Christian Venne ist Biologe an der biologischen Station Kreis 
  \nPaderborn/Senne und Experte für Wildbienen \nUm Anmeldung wird
 gebeten. \n \n(Stand: 24.04.2026)
DTEND:20260710T153000Z
DTSTAMP:20260408T104444Z
DTSTART:20260710T130000Z
GEO:52.009689;8.480644
LAST-MOD:20260408T104444Z
LOCATION:Einschlingen
STATUS:CONFIRMED
SUMMARY:Wir beobachten Wildbienen
TRANSP:OPAQUE
UID:1698802
URL:https://www.bielefeld.jetzt/node/1698801
END:VEVENT
END:VCALENDAR
