BEGIN:VCALENDAR
CALSCALE:GREGORIAN
METHOD:PUBLISH
PRODID:-//IT-On.NET//bielefeld.jetzt//DE
VERSION:2.0
BEGIN:VEVENT
CLASS:PUBLIC
CREATED:20260424T103516Z
DESCRIPTION:https://www.bielefeld.jetzt/node/1703473\n\nVortrag im Rahmen
 des Kolloquiums Mittelalter und Frühe Neuzeit. \n \nFür Informationen
 zur Veranstaltung sowie Zoom-Zugangsdaten können sich  
 \nTeilnahmeinteressierte per Mail \n \nan karen.gamm@uni-bielefeld.de [1]
 wenden. \n \nRaum: X-E0-222 \n \n \n[1] mailto:karen.gamm@uni-bielefeld.de
 \n(Stand: 24.04.2026)
DTSTAMP:20260409T234501Z
DTSTART:20260716T160000Z
GEO:52.036500;8.495100
LAST-MOD:20260409T234501Z
LOCATION:Universität Bielefeld
STATUS:CONFIRMED
SUMMARY:Kolloquium der Vormoderne: Filip Vukuša (Bielefeld):
 Reconstructing Medieval Social Networks: A Case Study of Notaries in 14th
 Century Zadar and Rab
TRANSP:OPAQUE
UID:1703474
URL:https://www.bielefeld.jetzt/node/1703473
END:VEVENT
END:VCALENDAR
