BEGIN:VCALENDAR
CALSCALE:GREGORIAN
METHOD:PUBLISH
PRODID:-//IT-On.NET//bielefeld.jetzt//DE
VERSION:2.0
BEGIN:VEVENT
CLASS:PUBLIC
CREATED:20260422T103857Z
DESCRIPTION:https://www.bielefeld.jetzt/node/1710473\n\nWir öffnen unsere
 Campustüren an der FHM Bielefeld und bieten dir ein   \nbreites
 Informations- und Beratungsangebot zu all unseren Studienprogrammen  
 \nan. Du weißt noch nicht recht\, welcher Studiengang optimal zu Dir
 passt und   \nsuchst noch Orientierung? Oder bist Du schon top informiert
 und hast konkrete   \nDetailsfragen? Wir beantworten Dir all Deine offenen
 Fragen und noch viel   \nmehr! \nOpen.Campus an der FHM – Dein Blick
 hinter die Kulissen! \nEntdecke unseren FHM Campus im Herzen Bielefelds!
 An unserem Open.Campus hast   \ndu die Gelegenheit\, unsere
 Professor*innen und das Hochschulteam persönlich   \nzu treffen. Komm ins
 Gespräch\, stelle deine Fragen rund um die FHM und   \nerfahre alles
 über dein Wunschstudium. Wir beraten dich gern individuell. \n16:00 Uhr:
 Das sind wir - die Fachhochschule des Mittelstands (FHM) \n16:45 Uhr:
 Campusrundgang \n17:00 Uhr: \nDeine Individuelle Studienberatung - welcher
 Bereich interessiert Dich ganz   \nkonkret? \nStudiengangsvorstellung B.A.
 Sozialpädagogik & Management \nStudiengangsvorstellung Bachelorprogramme
 Psychologie (B.Sc. Psychologie\,   \nB.Sc. Psychology (dual degree))
 \nStudiengangsvorstellung B.A. Fashion Management
 \nStudiengangsvorstellung B.A. Betriebswirtschaft\, B.A. Sportmanagement\,
 B.A.   \nMarketingmanagement und B.A. Eventmanagement & Entertainment
 \nStudiengangsvorstellung B.Sc. Physician Assistance
 \nStudiengangsvorstellung B.A. Medienkommunikation & Journalismus \nBei
 der gesamten Veranstaltungen hast du die Möglichkeit mit den  
 \nStudienberater*innen individuell ins Gespräch zu kommen und deine
 Fragen zu   \nklären. \n(Veranstaltungsdauer: 16:00 - ca. 18:00 Uhr) \n
 \n(Stand: 22.04.2026)
DTEND:20260602T160000Z
DTSTAMP:20260413T114825Z
DTSTART:20260602T140000Z
GEO:52.017445;8.534541
LAST-MOD:20260413T114825Z
LOCATION:Fachhochschule des Mittelstands
STATUS:CONFIRMED
SUMMARY:Open.Campus an der FHM Bielefeld
TRANSP:OPAQUE
UID:1710474
URL:https://www.bielefeld.jetzt/node/1710473
END:VEVENT
END:VCALENDAR
