BEGIN:VCALENDAR
CALSCALE:GREGORIAN
METHOD:PUBLISH
PRODID:-//IT-On.NET//bielefeld.jetzt//DE
VERSION:2.0
BEGIN:VEVENT
CLASS:PUBLIC
CREATED:20260424T103737Z
DESCRIPTION:https://www.bielefeld.jetzt/node/1712796\n\nschnell •
 interaktiv • digital \nBereit für die ultimative Quiz-Herausforderung?
 \nErlebt das Kneipenquiz neu und modern. Quizmaster Carsten führt euch
 durch   \ndrei aufregende Fragerunden\, mit Fragen aus verschiedenen
 Kategorien. \nBildet Teams\, gebt Eure Antworten mit dem Laptop oder
 Tablet ein und seid   \nschneller als die anderen. \nEin Team besteht aus
 max. 6 Personen\, pro Team wird ein internetfähiges   \nTablet oder ein
 Laptop benötigt. \nDie Team-Anmeldungen erfolgen am Veranstaltungstag.
 \nSeid bereit\, zu buzzern! \nWeitere Info unter: www.readytobuzz.com
 \nEinlass 18:30 Uhr \nTeam - Anmeldungen bis 19.30 Uhr \nBeginn: 20:00 Uhr
 \nVVK: 10\,00 Euro pro Person\, Abendkasse: 13\,00 Euro pro Person
 \nTickets unter: https://eventfrog.de/Kneipenquiz-Pappelkrug-0626 \n
 \n(Stand: 24.04.2026)
DTEND:20260605T210000Z
DTSTAMP:20260414T073049Z
DTSTART:20260605T163000Z
GEO:52.039102;8.478538
LAST-MOD:20260414T073049Z
LOCATION:Pappelkrug
STATUS:CONFIRMED
SUMMARY:Kneipenquiz Pappelkrug Bielefeld "Ready To Buzz"
TRANSP:OPAQUE
UID:1712797
URL:https://www.bielefeld.jetzt/node/1712796
END:VEVENT
END:VCALENDAR
