BEGIN:VCALENDAR
CALSCALE:GREGORIAN
METHOD:PUBLISH
PRODID:-//IT-On.NET//bielefeld.jetzt//DE
VERSION:2.0
BEGIN:VEVENT
CLASS:PUBLIC
CREATED:20260420T200559Z
DESCRIPTION:https://www.bielefeld.jetzt/node/1712800\n\nAnschließend gibt
 es Kaffee\, kalte Getränke und Kuchen im Gemeindehaus. \n \n(Stand:
 20.04.2026)
DTSTAMP:20260414T075601Z
DTSTART:20260426T130000Z
GEO:52.071420;8.595410
LAST-MOD:20260414T075601Z
LOCATION:Kirche Brake (ev.)
STATUS:CONFIRMED
SUMMARY:Frühlingslieder zum Mitsingen und Zuhören
TRANSP:OPAQUE
UID:1712801
URL:https://www.bielefeld.jetzt/node/1712800
END:VEVENT
END:VCALENDAR
