BEGIN:VCALENDAR
CALSCALE:GREGORIAN
METHOD:PUBLISH
PRODID:-//IT-On.NET//bielefeld.jetzt//DE
VERSION:2.0
BEGIN:VEVENT
CLASS:PUBLIC
CREATED:20260420T200817Z
DESCRIPTION:https://www.bielefeld.jetzt/node/1712853\n\nAn einem schönen
 Frühlingsabend verzaubern Feuerkünstler das Gelände am   \nObersee. \n
 \n(Stand: 20.04.2026)
DTEND:20260430T200000Z
DTSTAMP:20260414T125347Z
DTSTART:20260430T160000Z
GEO:52.059133;8.558580
LAST-MOD:20260414T125347Z
LOCATION:Seekrug
STATUS:CONFIRMED
SUMMARY:Gala der Feuerkünstler
TRANSP:OPAQUE
UID:1712854
URL:https://www.bielefeld.jetzt/node/1712853
END:VEVENT
END:VCALENDAR
