BEGIN:VCALENDAR
CALSCALE:GREGORIAN
METHOD:PUBLISH
PRODID:-//IT-On.NET//bielefeld.jetzt//DE
VERSION:2.0
BEGIN:VEVENT
CLASS:PUBLIC
CREATED:20260421T115653Z
DESCRIPTION:https://www.bielefeld.jetzt/node/1712863\n\nKomm vorbei zu
 unserem Sprachcafé – einem Ort\, an dem du bei Kaffee oder   \nTee in
 gemütlicher und ungezwungener Atmosphäre Deutsch üben und sprechen  
 \nkannst. Tausch dich mit anderen aus\, lerne voneinander und – ganz
 wichtig   \n– hab Spaß! \nJede:r ist willkommen\, ohne Anmeldung &
 kostenlos. Wir freuen uns auf dich. \nWo? Quartiersbüro
 Ostmannturmviertel \nAugust-Bebel-Straße 68a \nWann? Jeden zweiten
 Dienstag von 11:00-12:30 Uhr \n \n(Stand: 21.04.2026)
DTEND:20260519T103000Z
DTSTAMP:20260414T133737Z
DTSTART:20260519T090000Z
GEO:52.029161;8.537802
LAST-MOD:20260414T133737Z
LOCATION:Ostmannturm
STATUS:CONFIRMED
SUMMARY:Sprachcafé im Ostmannturmviertel
TRANSP:OPAQUE
UID:1712866
URL:https://www.bielefeld.jetzt/node/1712863
END:VEVENT
END:VCALENDAR
