BEGIN:VCALENDAR
CALSCALE:GREGORIAN
METHOD:PUBLISH
PRODID:-//IT-On.NET//bielefeld.jetzt//DE
VERSION:2.0
BEGIN:VEVENT
CLASS:PUBLIC
CREATED:20260424T111733Z
DESCRIPTION:https://www.bielefeld.jetzt/node/1712879\n\nEintritt frei \n
 \nEin besonderes Highlight für Familien mit Kindern bildet die
 erlebnisreiche   \nAuen-Rallye durch die Johannisbachaue rund um die
 Heckrinderweide\, die über   \netwa drei Kilometer zu Fuß oder bequem
 mit dem Fahrrad bewältigt werden   \nkann. Sie startet am Halhof mit der
 Ausgabe von Laufzetteln für die   \nTeilnehmer:innen. In diese Laufzettel
 werden Lösungsworte eingetragen\, die   \ndurch kleine Aufgaben an neun
 Aktionsständen in der Johannisbachaue   \nerarbeitet werden und sich an
 Kinder und ihre erwachsenen Begleiter:innen   \nrichten. Dabei geht es um
 die Menschen\, Tiere und Pflanzen\, die in der   \nJohannisbachaue leben
 und wirtschaften. Themen sind die Tiere der Hecken\, der   \nAcker als
 Lebensraum für Pflanzen und Tiere\, die Aue als Wasserspeicher\,  
 \nhochwertige Nahrungsmittel aus biologischem Anbau\, Ponyreiten\, die
 Störche\,   \nHeckrinder und Wildtiere in der Johannisbachaue sowie die
 Wassertiere im   \nJohannisbach. \n \n(Stand: 24.04.2026)
DTEND:20260621T160000Z
DTSTAMP:20260414T145648Z
DTSTART:20260621T100000Z
GEO:52.055707;8.558115
LAST-MOD:20260414T145648Z
LOCATION:Halhof
STATUS:CONFIRMED
SUMMARY:Auenfest
TRANSP:OPAQUE
UID:1712880
URL:https://www.bielefeld.jetzt/node/1712879
END:VEVENT
END:VCALENDAR
