BEGIN:VCALENDAR
CALSCALE:GREGORIAN
METHOD:PUBLISH
PRODID:-//IT-On.NET//bielefeld.jetzt//DE
VERSION:2.0
BEGIN:VEVENT
CLASS:PUBLIC
CREATED:20260421T115838Z
DESCRIPTION:https://www.bielefeld.jetzt/node/1712889\n\nVon 21 bis 23 Uhr
 wird durchgetanzt zu Indie\, Wave\, Synthie-Pop\, Hip-Hop\,   \nSoul\,
 R'n'B ... worauf die DJs Tysk McCoy\, Pocholski und Conor Corazón  
 \ngerade Lust haben. Das Ganze von Vinyl. Anfang und Ende sind natürlich 
  \npünktlich\, also seid ihr es am besten auch und springt um 21 Uhr
 direkt auf   \ndie Tanzfläche. \n \n(Stand: 21.04.2026)
DTEND:20260421T210000Z
DTSTAMP:20260414T205315Z
DTSTART:20260421T190000Z
GEO:52.027475;8.528686
LAST-MOD:20260414T205315Z
LOCATION:Cutie
STATUS:CONFIRMED
SUMMARY:120 Minuten Party
TRANSP:OPAQUE
UID:1712890
URL:https://www.bielefeld.jetzt/node/1712889
END:VEVENT
END:VCALENDAR
