BEGIN:VCALENDAR
CALSCALE:GREGORIAN
METHOD:PUBLISH
PRODID:-//IT-On.NET//bielefeld.jetzt//DE
VERSION:2.0
BEGIN:VEVENT
CLASS:PUBLIC
CREATED:20260421T120034Z
DESCRIPTION:https://www.bielefeld.jetzt/node/1715154\n\nMalen\, Zeichnen\,
 Drucken\, Modellieren – unterschiedliche Materialien und   \nTechniken
 ausprobieren und gemeinsam Spaß haben. \nAll das kannst du in unserem
 Kids-ART-Atelier. Entdecke mit uns die spannende   \nWelt der Kunst mit
 farb- und formreichen Experimenten. \n \nDer Kurs richtet sich an Kinder
 im Alter von 5 bis 8 Jahren. \n \nDieser fortlaufende Kurs findet
 wöchentlich statt (außer an Feiertagen)\,   \nbesteht aus 9 Terminen und
 endet am 9.6.2026. \nBitte kaufen Sie Ihr Ticket vor dem ersten Termin.
 Der Einstieg zu einem   \nspäteren Zeitpunkt ist nicht möglich. \n
 \nAnmeldung und Information: \nTania Müller
 \nmueller@kunsthalle-bielefeld.de [1] \nT 0521.3299950-18 \n \nZuhal
 Özbey \noezbey@kunsthalle-bielefeld.de [2] \nT 0521.3299950-19 \n
 \nBezahlung vor Beginn des Kurses \nmit Alwina Westerwinter \n \n \n[1]
 mailto:mueller@kunsthalle-bielefeld.de \n[2]
 mailto:oezbey@kunsthalle-bielefeld.de \n(Stand: 21.04.2026)
DTEND:20260519T150000Z
DTSTAMP:20260414T231501Z
DTSTART:20260519T133000Z
GEO:52.018100;8.525970
LAST-MOD:20260414T231501Z
LOCATION:Kunsthalle Bielefeld
STATUS:CONFIRMED
SUMMARY:Kurs 1: Kids-ART-Atelier AUSGEBUCHT
TRANSP:OPAQUE
UID:1715159
URL:https://www.bielefeld.jetzt/node/1715154
END:VEVENT
END:VCALENDAR
