BEGIN:VCALENDAR
CALSCALE:GREGORIAN
METHOD:PUBLISH
PRODID:-//IT-On.NET//bielefeld.jetzt//DE
VERSION:2.0
BEGIN:VEVENT
CLASS:PUBLIC
CREATED:20260419T143532Z
DESCRIPTION:https://www.bielefeld.jetzt/node/1715181\n\nDer Filmemacher
 Andrianus „Oetjoe“ Merdhi stellt seinen Dokumentarfilm   \n„When the
 Water Horse Seeks a New Home“ als Programmteil des Workshops:  
 \n„Thinking about refugees through the sea“ (06.-08.05.2026) am
 06.05.2026   \nan der Universität Bielefeld vor. \n \nDieser Film ist in
 der Zusammenarbeit mit Antje Missbach\, Universität   \nBielefeld
 und Gerhard Hoffstaedter\, University of Queensland\,  
 \nAustralien\, im Rahmen des von der VW-Stiftung geförderten Projektes  
 \n“Theorising (im)mobilities at sea: Challenging the terra firma bias in
   \nRefugee Studies through human maritime movements“ entstanden. Im  
 \nMittelpunkt stehen Fluchtrouten im Indischen Ozean und die  
 \nAbschottungsversuche der potentiellen Zielländer in Südostasien. \n
 \nRaum: X-E0-202 \n \n(Stand: 19.04.2026)
DTSTAMP:20260414T234501Z
DTSTART:20260506T160000Z
GEO:52.036500;8.495100
LAST-MOD:20260414T234501Z
LOCATION:Universität Bielefeld
STATUS:CONFIRMED
SUMMARY:When the Water Horse Seeks a New Home (2026 Indonesia) Film
 Screening
TRANSP:OPAQUE
UID:1715182
URL:https://www.bielefeld.jetzt/node/1715181
END:VEVENT
END:VCALENDAR
