BEGIN:VCALENDAR
CALSCALE:GREGORIAN
METHOD:PUBLISH
PRODID:-//IT-On.NET//bielefeld.jetzt//DE
VERSION:2.0
BEGIN:VEVENT
CLASS:PUBLIC
CREATED:20260420T175654Z
DESCRIPTION:https://www.bielefeld.jetzt/node/1715201\n\nDas zweite Comedy
 Solo Programm von Faiz Mangat beschreibt alltägliche   \nSituationen\,
 die mit der Fantasie eines Tagträumers sehr schnell eskalieren. \nVater\,
 Musiker\, Comedian und Afrikaner in Deutschland. \nMehr braucht es nicht!
 \n(Stand: 20.04.2026)
DTSTAMP:20260414T235501Z
DTSTART:20261014T180000Z
GEO:52.023727;8.550172
LAST-MOD:20260414T235501Z
LOCATION:Cantine
STATUS:CONFIRMED
SUMMARY:Faiz Mangat Live - Leo
TRANSP:OPAQUE
UID:1715202
URL:https://www.bielefeld.jetzt/node/1715201
END:VEVENT
END:VCALENDAR
