BEGIN:VCALENDAR
CALSCALE:GREGORIAN
METHOD:PUBLISH
PRODID:-//IT-On.NET//bielefeld.jetzt//DE
VERSION:2.0
BEGIN:VEVENT
CLASS:PUBLIC
CREATED:20260421T115848Z
DESCRIPTION:https://www.bielefeld.jetzt/museumsrallye\n\nSechs Museen\, 36
 Fragen und zwei Fahrräder --  Mache eine   \nabwechslungsreiche
 Entdeckungstour durch Kunst\, Geschichte\, Architektur und  
 \nNaturwissenschaften. Beantworte die Fragen von mindestens fünf Museen\,
 um im   \nLostopf zu landen und tolle Preise zu gewinnen. \n \nAm
 Internationalen Museumstag\, 17. Mai 2026\, öffnen sechs Bielefelder
 Museen   \nerneut ihre Türen für die mittlerweile fünfte Auflage der
 Bielefelder   \nMuseums-Rallye. Die Initiative\, die in Zusammenarbeit mit
 dem Verein   \n"Bielefelder Konsens -- Pro Bielefeld" ins Leben gerufen
 wurde\, hat sich zum   \nZiel gesetzt\, die vielfältige Museumslandschaft
 der Stadt für Kinder\,   \nJugendliche und Erwachsene sichtbar und
 erlebbar zu machen. \n \nMIt dabei sind: \n \n * Historisches Museum
 Bielefeld \n * Kunsthalle Bielefeld \n * Kunstverein Bielefeld \n * Museum
 Huelsmann \n * Museum Wäschefabrik \n * Naturkunde-Museum Bielefeld \n
 \nDie Teilnahme an der Museums-Rallye ist einfach: In jedem der sechs
 Museen   \nist am 17. Mai 2026 ein Rallye-Heft erhältlich\, das insgesamt
 36 Fragen   \nenthält – sechs Fragen pro Museum. Die Museen haben am
 Aktionstag von 11   \nbis 18 Uhr geöffnet\, sowohl der Eintritt als auch
 die Teilnahme an der   \nRallye sind kostenfrei. \n
 \n------------------------------------------------------------------------------
 \nDie Preisverleihung für die erfolgreichen Teilnehmer:innen findet am
 10.   \nJuni 2026 um 18 Uhr im Café Gemach Manhattan in der Kunsthalle.
 \n
 \n------------------------------------------------------------------------------
 \n*Wo ist was?* \n \n(Stand: 21.04.2026)
DTEND:20260517T160000Z
DTSTAMP:20260415T074434Z
DTSTART:20260517T090000Z
GEO:52.030229;8.532471
LAST-MOD:20260415T074451Z
LOCATION:Verschiedene Veranstaltungsorte
STATUS:CONFIRMED
SUMMARY:5. Bielefelder Museums-Rallye
TRANSP:OPAQUE
UID:1715216
URL:https://www.bielefeld.jetzt/museumsrallye
END:VEVENT
END:VCALENDAR
