BEGIN:VCALENDAR
CALSCALE:GREGORIAN
METHOD:PUBLISH
PRODID:-//IT-On.NET//bielefeld.jetzt//DE
VERSION:2.0
BEGIN:VEVENT
CLASS:PUBLIC
CREATED:20260421T110626Z
DESCRIPTION:https://www.bielefeld.jetzt/node/1715231\n\nDer nächste
 SmartTalk findet wieder bei uns im Lessinghaus in Bielefeld   \nstatt.
 \n"Mit (Schaden-)Freude und Sachverstand“ Stefan Lange (Baugutachter &  
 \nImmobiliensachverständiger) zeigt Dir anhand echter Schadenbeispiele\,
 worauf   \nes wirklich ankommt\, welche typischen Fehler passieren und wie
 Du Dich clever   \nvorbereitest. Wann Zahlungsablehnungen gerechtfertigt
 sind und wann nicht. \nLocker\, praxisnah und garantiert nicht trocken.
 \nDie Veranstaltung ist kostenlos. \nWenn Du dabei sein möchtest\, melde
 Dich gerne über den Link an\, die plätze   \nsind begrenzt. \nHast Du
 noch Fragen? Melde Dich bei uns: www.dergutemakler.de \noder Instagram:
 bielefelder_maklerteam \n \n(Stand: 21.04.2026)
DTEND:20260507T180000Z
DTSTAMP:20260415T100723Z
DTSTART:20260507T160000Z
GEO:52.024700;8.559200
LAST-MOD:20260415T100723Z
LOCATION:Bielefeld-Mitte
STATUS:CONFIRMED
SUMMARY:SmartTalks 
TRANSP:OPAQUE
UID:1715232
URL:https://www.bielefeld.jetzt/node/1715231
END:VEVENT
END:VCALENDAR
