BEGIN:VCALENDAR
CALSCALE:GREGORIAN
METHOD:PUBLISH
PRODID:-//IT-On.NET//bielefeld.jetzt//DE
VERSION:2.0
BEGIN:VEVENT
CLASS:PUBLIC
CREATED:20260424T104148Z
DESCRIPTION:https://www.bielefeld.jetzt/node/1715270\n\nVerkauf von
 gebrauchter Kleidung für Kinder & Erwachsene\, Schuhe\, Spielzeug\,  
 \nBücher\, Deko\, Haushaltswaren etc. \n \n(Stand: 24.04.2026)
DTEND:20260614T130000Z
DTSTAMP:20260415T173333Z
DTSTART:20260614T090000Z
LAST-MOD:20260415T173333Z
LOCATION:Bielefeld
STATUS:CONFIRMED
SUMMARY:Straßenflohmarkt 
TRANSP:OPAQUE
UID:1715271
URL:https://www.bielefeld.jetzt/node/1715270
END:VEVENT
END:VCALENDAR
