BEGIN:VCALENDAR
CALSCALE:GREGORIAN
METHOD:PUBLISH
PRODID:-//IT-On.NET//bielefeld.jetzt//DE
VERSION:2.0
BEGIN:VEVENT
CLASS:PUBLIC
CREATED:20260421T115033Z
DESCRIPTION:https://www.bielefeld.jetzt/node/1715272\n\nRund um das
 Quartier Thomashof findet wieder der Nachbarschafts-Flohmarkt   \nstatt
 mit allem rund um Kinder\, Haushalt\, Kleidung\, Spielzeug und vieles  
 \nmehr. \n \n(Stand: 21.04.2026)
DTEND:20260503T140000Z
DTSTAMP:20260415T173405Z
DTSTART:20260503T090000Z
GEO:52.051270;8.476700
LAST-MOD:20260415T173405Z
LOCATION:Bielefeld-Dornberg
STATUS:CONFIRMED
SUMMARY:Flohmarkt in Babenhausen
TRANSP:OPAQUE
UID:1715273
URL:https://www.bielefeld.jetzt/node/1715272
END:VEVENT
END:VCALENDAR
