BEGIN:VCALENDAR
CALSCALE:GREGORIAN
METHOD:PUBLISH
PRODID:-//IT-On.NET//bielefeld.jetzt//DE
VERSION:2.0
BEGIN:VEVENT
CLASS:PUBLIC
CREATED:20260420T175149Z
DTSTAMP:20260415T235502Z
DTSTART:20270109T180000Z
GEO:52.037200;8.551310
LAST-MOD:20260415T235502Z
LOCATION:Lokschuppen
STATUS:CONFIRMED
SUMMARY:Wladimir Kaminer - Müttertage
TRANSP:OPAQUE
UID:1717625
URL:https://www.bielefeld.jetzt/node/1717624
END:VEVENT
END:VCALENDAR
