BEGIN:VCALENDAR
CALSCALE:GREGORIAN
METHOD:PUBLISH
PRODID:-//IT-On.NET//bielefeld.jetzt//DE
VERSION:2.0
BEGIN:VEVENT
CLASS:PUBLIC
CREATED:20260424T103312Z
DESCRIPTION:https://www.bielefeld.jetzt/node/1717635\n\nBei den Brands &
 Love Experience Days erlebst du Workshops und Hands-on   \nExperiences in
 über sechs Stunden Abwechslung. In kleinen Gruppen erlebst du   \nneue
 Inspirationen und DIYs für dich. Bei leckeren Snacks und Drinks gibt es  
 \ndazu jede Menge Raum für Community und Connection. Samstag und Sonntag
 im   \nStudio SiSu in Bielefeld – ca. 200 m² einzigartige Studiofläche
 mit clean   \ngirl aesthetic. Jede:r Teilnehmer:in erhält eine Goodie Bag
 mit Produkten   \nvieler Love Brands. Den Link zu den Tickets findest du
 auf unserer Website. \n \n(Stand: 24.04.2026)
DTEND:20260627T163000Z
DTSTAMP:20260416T091933Z
DTSTART:20260627T100000Z
LAST-MOD:20260416T091933Z
LOCATION:Bielefeld
STATUS:CONFIRMED
SUMMARY:Brands & Love Experience Days
TRANSP:OPAQUE
UID:1717636
URL:https://www.bielefeld.jetzt/node/1717635
END:VEVENT
END:VCALENDAR
