BEGIN:VCALENDAR
CALSCALE:GREGORIAN
METHOD:PUBLISH
PRODID:-//IT-On.NET//bielefeld.jetzt//DE
VERSION:2.0
BEGIN:VEVENT
CLASS:PUBLIC
CREATED:20260420T200817Z
DESCRIPTION:https://www.bielefeld.jetzt/node/1719922\n\nVortrag im Rahmen
 des Kolloquiums Kultur/Geschichte \n \nRaum: X A2-103 \n \n(Stand:
 20.04.2026)
DTSTAMP:20260416T234501Z
DTSTART:20260423T140000Z
GEO:52.036500;8.495100
LAST-MOD:20260416T234501Z
LOCATION:Universität Bielefeld
STATUS:CONFIRMED
SUMMARY:Alan E. Steinweis (Vermont): The Lone Assassin: Georg Elser’s
 Attempt to Assassinate Hitler in November 1939 and the Memory of the
 German Resistance
TRANSP:OPAQUE
UID:1719923
URL:https://www.bielefeld.jetzt/node/1719922
END:VEVENT
END:VCALENDAR
