BEGIN:VCALENDAR
CALSCALE:GREGORIAN
METHOD:PUBLISH
PRODID:-//IT-On.NET//bielefeld.jetzt//DE
VERSION:2.0
BEGIN:VEVENT
CLASS:PUBLIC
CREATED:20260420T200838Z
DESCRIPTION:https://www.bielefeld.jetzt/node/1719924\n\nGene und Umwelt
 sind keine Gegenspieler\, sondern Partner. Das Konzept des   \n„sozialen
 Genoms“ beschreibt unsere Genetik als ein dynamisches System\,   \ndas
 soziale Erfahrungen aktiv verarbeitet und die menschliche Entwicklung  
 \nmitgestaltet. Dr. Laurel Raffington verdeutlicht\, wie soziale  
 \nRahmenbedingungen – insbesondere Armut – im Zusammenspiel mit
 genetischen   \nDispositionen Bildungswege und Gesundheit prägen. \n \nDa
 dieser Prozess in der Kindheit besonders sensitiv ist\, hinterlassen
 frühe   \nsoziale Kontexte biologische Spuren mit eventuell lebenslangen
 Konsequenzen.   \nDieser soziogenomische Ansatz wirft fundamentale Fragen
 für unsere Bildungs-   \nund Gesundheitssysteme auf: Inwieweit dürfen
 soziale und biologische   \nUngleichheiten Lebensläufe prägen? Wann und
 wie müssen wir investieren\, um   \nsoziale Gerechtigkeit zu sichern? \n
 \nRaum: Y-0-111 \n \n(Stand: 20.04.2026)
DTSTAMP:20260416T234501Z
DTSTART:20260427T161500Z
GEO:52.036500;8.495100
LAST-MOD:20260416T234501Z
LOCATION:Universität Bielefeld
STATUS:CONFIRMED
SUMMARY:Das soziale Genom: DNA\, Gesellschaft und menschliche
 Entwicklung
TRANSP:OPAQUE
UID:1719925
URL:https://www.bielefeld.jetzt/node/1719924
END:VEVENT
END:VCALENDAR
