BEGIN:VCALENDAR
CALSCALE:GREGORIAN
METHOD:PUBLISH
PRODID:-//IT-On.NET//bielefeld.jetzt//DE
VERSION:2.0
BEGIN:VEVENT
CLASS:PUBLIC
CREATED:20260420T175711Z
DESCRIPTION:https://www.bielefeld.jetzt/node/1719936\n\nDer Hamburger
 Singer-Songwriter Phil Siemers geht auf große „Solo“-Tour.   \nIm
 Oktober 2026 sowie im April 2027 bringt er seine markante Soul-Stimme\,  
 \nsein zeitloses Songwriting und seine Leidenschaft für handgemachte\,
 analoge   \nSoundwelten live auf die Bühnen von insgesamt zwölf
 Städten. \nMit seinem aktuellen Album „Was wenn doch“ unterstreicht
 Phil Siemers   \neindrucksvoll seine besondere Verbindung zu seiner stetig
 wachsenden Fanbase:   \nInnerhalb von nur zwölf Tagen wurde das Album
 erfolgreich über Crowdfunding   \nfinanziert – ein starkes Signal für
 die nachhaltige Unterstützung seiner   \nMusik weit über Hamburg hinaus.
 Mit einfühlsamen deutschsprachigen Texten\,   \nlässigem Groove und
 seiner unverwechselbaren Soul-Stimme hat sich der   \nMultiinstrumentalist
 in den vergangenen Jahren große Anerkennung erspielt\,   \nohne dabei
 seine Nahbarkeit und Bodenständigkeit zu verlieren. Die  
 \n„Solo“-Tour 2026/2027 steht ganz im Zeichen der Reduktion. Phil
 Siemers   \nlädt dazu ein\, seine Musik in ihrer reinsten Form zu erleben
 – intensiv\,   \natmosphärisch und unmittelbar. Allein auf der Bühne
 erschafft er mit   \nGitarren\, Keyboards\, Percussion und Loop-Station
 vielschichtige Klangwelten\,   \ndie sowohl intime Momente als auch
 energetische Dynamik vereinen. Live   \neingespielte Spuren wachsen zu
 dichten\, organischen Arrangements zusammen und   \nlassen ein
 Konzerterlebnis entstehen\, das weit über klassische  
 \nSolo-Performances hinausgeht. Bereits bei früheren Solo-Auftritten hat 
  \nSiemers bewiesen\, dass Reduktion für ihn keinen Verzicht bedeutet\,
 sondern   \neine bewusste künstlerische Entscheidung: Seine Songs
 gewinnen im direkten   \nAustausch mit dem Publikum an Tiefe und
 Intensität. \n(Stand: 20.04.2026)
DTSTAMP:20260416T235501Z
DTSTART:20270403T190000Z
GEO:52.009649;8.468683
LAST-MOD:20260416T235501Z
LOCATION:Zweischlingen
STATUS:CONFIRMED
SUMMARY:Phil Siemers - Solo Loop Tour 2026
TRANSP:OPAQUE
UID:1719937
URL:https://www.bielefeld.jetzt/node/1719936
END:VEVENT
END:VCALENDAR
