BEGIN:VCALENDAR
CALSCALE:GREGORIAN
METHOD:PUBLISH
PRODID:-//IT-On.NET//bielefeld.jetzt//DE
VERSION:2.0
BEGIN:VEVENT
CLASS:PUBLIC
CREATED:20260420T175654Z
DTSTAMP:20260416T235501Z
DTSTART:20260628T080000Z
LAST-MOD:20260416T235501Z
STATUS:CONFIRMED
SUMMARY:Brands & Love - Experience Days
TRANSP:OPAQUE
UID:1719940
URL:https://www.bielefeld.jetzt/node/1719938
END:VEVENT
END:VCALENDAR
