BEGIN:VCALENDAR
CALSCALE:GREGORIAN
METHOD:PUBLISH
PRODID:-//IT-On.NET//bielefeld.jetzt//DE
VERSION:2.0
BEGIN:VEVENT
CLASS:PUBLIC
CREATED:20260420T175415Z
DTSTAMP:20260416T235501Z
DTSTART:20261107T200000Z
LAST-MOD:20260416T235501Z
STATUS:CONFIRMED
SUMMARY:40plus Party Bielefeld - die Party für alle Ü40
TRANSP:OPAQUE
UID:1719942
URL:https://www.bielefeld.jetzt/node/1719941
END:VEVENT
END:VCALENDAR
