BEGIN:VCALENDAR
CALSCALE:GREGORIAN
METHOD:PUBLISH
PRODID:-//IT-On.NET//bielefeld.jetzt//DE
VERSION:2.0
BEGIN:VEVENT
CLASS:PUBLIC
CREATED:20260420T100231Z
DESCRIPTION:https://www.bielefeld.jetzt/node/1719951\n\nErlebe das duale
 und Vollzeitstudium in Betriebswirtschaft\, International   \nBusiness
 Management\, Angewandter Informatik und Wirtschaftsinformatik   \nhautnah.
 Informiere dich über Studieninhalte\, Berufsbilder und  
 \nPraxisformate\, nimm an spannenden Vorträgen teil und tausche dich mit 
  \nStudierenden\, Professor*innen und der Studienberatung aus. Start ist
 für   \nalle Teilnehmer*innen um 16 Uhr. \n \n(Stand: 20.04.2026)
DTEND:20260521T163000Z
DTSTAMP:20260417T075110Z
DTSTART:20260521T140000Z
GEO:52.013412;8.569404
LAST-MOD:20260417T075110Z
LOCATION:Fachhochschule der Wirtschaft
STATUS:CONFIRMED
SUMMARY:FHDW Life! für Schüler*innen
TRANSP:OPAQUE
UID:1719952
URL:https://www.bielefeld.jetzt/node/1719951
END:VEVENT
END:VCALENDAR
