BEGIN:VCALENDAR
CALSCALE:GREGORIAN
METHOD:PUBLISH
PRODID:-//IT-On.NET//bielefeld.jetzt//DE
VERSION:2.0
BEGIN:VEVENT
CLASS:PUBLIC
CREATED:20260420T101402Z
DESCRIPTION:https://www.bielefeld.jetzt/node/1719955\n\nKinderyoga wird
 seit einigen Jahrzehnten von verschiedene Yogatraditionen   \nangeboten
 und dadurch wird Kinderyoga vielfältig praktiziert. \nIn meinen
 Kinderyogastunden lernt Dein Kind die Yogaübungen in Form von   \nFlora\,
 Fauna und Tierwelt (z. B. Baum\, Katze\, Kuh\, Berg usw.). Die  
 \nYogahaltungen werden spielerisch und altersgerecht praktiziert.
 Ebenfalls   \nwerden in der Yogastunde Singen von yogischen Liedern\,
 Wahrnehmungsspiele\,   \nPhantasiereisen und Atemübungen integriert.
 Diese fördern die   \nKonzentration\, Geduld\, Aufmerksamkeit und
 Kreativität Deines Kindes. \nKinderyoga baut Streß und Ängste ab. Dein
 Kind lernt\, sich zu entspannen um   \nin der Ruhe und Gelassenheit
 anzukommen. Kinderyoga leistet einen Beitrag   \nfür die körperlich\,
 geistige und seelische Gesundheit Deines Kindes. \nIch bin zertifizierte
 Kinderyogalehrerin mit einem pädagogischen Hintergrund   \nund freue mich
 auf DEIN Kind. \nHerzlichst \nDeine Silke Chromik \nAlter des Kindes: 7-10
 Jahre \nKosten: für 8 x 99 € \n \n(Stand: 20.04.2026)
DTEND:20260610T151500Z
DTSTAMP:20260417T115729Z
DTSTART:20260610T141500Z
GEO:52.043160;8.615030
LAST-MOD:20260417T115729Z
LOCATION:Bielefeld-Heepen
STATUS:CONFIRMED
SUMMARY:Kinderyoga
TRANSP:OPAQUE
UID:1719959
URL:https://www.bielefeld.jetzt/node/1719955
END:VEVENT
END:VCALENDAR
