BEGIN:VCALENDAR
CALSCALE:GREGORIAN
METHOD:PUBLISH
PRODID:-//IT-On.NET//bielefeld.jetzt//DE
VERSION:2.0
BEGIN:VEVENT
CLASS:PUBLIC
CREATED:20260420T182948Z
DESCRIPTION:https://www.bielefeld.jetzt/node/1720003\n\nImke Brunzema
 \nWolkenbilder \nMalerei \nAusstellung 19.04.2026 – 02.07.2026
 \nEröffnung am 19.04.2026 um 15 Uhr \nZu sehen ist Malerei von Imke
 Brunzema unter dem Titel Wolkenbilder. Wie der   \nTitel verrät\, geht es
 in dieser Ausstellung um Wolken\, die die Künstlerin   \nin den
 verschiedensten Formen und Farben dargestellt hat. \nDas Farbenspiel der
 Wolken gehört zu einer der großartigsten   \nNaturerscheinungen.
 Deswegen ist es umso schöner\, dass sich Imke Brunzema   \ndiesem Thema
 gewidmet hat. \n \n(Stand: 20.04.2026)
DTEND:20260514T160000Z
DTSTAMP:20260417T180119Z
DTSTART:20260514T130000Z
GEO:52.015829;8.536657
LAST-MOD:20260417T180119Z
LOCATION:atelier D
STATUS:CONFIRMED
SUMMARY:Wolkenbilder
TRANSP:OPAQUE
UID:1720022
URL:https://www.bielefeld.jetzt/node/1720003
END:VEVENT
END:VCALENDAR
