BEGIN:VCALENDAR
CALSCALE:GREGORIAN
METHOD:PUBLISH
PRODID:-//IT-On.NET//bielefeld.jetzt//DE
VERSION:2.0
BEGIN:VEVENT
CLASS:PUBLIC
CREATED:20260420T183529Z
DESCRIPTION:https://www.bielefeld.jetzt/node/1724609\n\nMusiker aus der
 Region treffen sich zum gemeinsamen Spiel. Der musikalische  
 \nSchwerpunkt liegt bei Blues\, Blues­rock und Rhythm and Blues - ganz so
 eng   \nwird das aber nicht gesehen. Um 19:00 legt die Opener Band los und
 sorgt erst   \neinmal für die rich­tige Stimmung\, ab 20 Uhr beginnt
 dann die mo­derierte   \nSession. \nAls Opener Band ist diesmal "Mr.
 Banker" - Blues Rock mit Henning Schröer. \nWer mitspielen will: PA\,
 Bassamp und Drums sind vorhan­den\, Instrumente   \nbitte mitbringen.
 \nDer Eintritt ist frei. \n \n(Stand: 20.04.2026)
DTEND:20260510T203000Z
DTSTAMP:20260419T103109Z
DTSTART:20260510T170000Z
GEO:52.016968;8.530526
LAST-MOD:20260419T103109Z
LOCATION:Extra Blues Bar
STATUS:CONFIRMED
SUMMARY:Rockin' Blues Session
TRANSP:OPAQUE
UID:1724610
URL:https://www.bielefeld.jetzt/node/1724609
END:VEVENT
END:VCALENDAR
