BEGIN:VCALENDAR
CALSCALE:GREGORIAN
METHOD:PUBLISH
PRODID:-//IT-On.NET//bielefeld.jetzt//DE
VERSION:2.0
BEGIN:VEVENT
CLASS:PUBLIC
CREATED:20260420T183522Z
DESCRIPTION:https://www.bielefeld.jetzt/node/1724611\n\nWir veranstalten
 einen Straßenflohmarkt! Kommt gerne alle vorbei und   \nstöbert was das
 Zeug hält… \nEs gibt (Kinder-)Kleidung\, Spielzeug\, Deko und vieles
 mehr! \n \n(Stand: 20.04.2026)
DTEND:20260530T130000Z
DTSTAMP:20260419T142819Z
DTSTART:20260530T090000Z
GEO:52.024700;8.559200
LAST-MOD:20260419T142819Z
LOCATION:Bielefeld-Mitte
STATUS:CONFIRMED
SUMMARY:Straßenflohmarkt „In den alten Gärten“
TRANSP:OPAQUE
UID:1724612
URL:https://www.bielefeld.jetzt/node/1724611
END:VEVENT
END:VCALENDAR
