BEGIN:VCALENDAR
CALSCALE:GREGORIAN
METHOD:PUBLISH
PRODID:-//IT-On.NET//bielefeld.jetzt//DE
VERSION:2.0
BEGIN:VEVENT
CLASS:PUBLIC
CREATED:20260420T183130Z
DESCRIPTION:https://www.bielefeld.jetzt/node/1726910\n\nDieser Workshop
 ist für alle\, die... \n- unverbindlich Impro ausprobieren wollen \n-
 schon Improerfahrung haben\, aber im Training bleiben wollen \nWas wir
 machen? Spielen\, spielen\, spielen. Ohne Leistungsdruck spielen wir  
 \nuns durch ein paar Grundlagen des Improtheaters: Heiter scheitern\, Yes
 and\,   \nzu sich selbst und seinem Bühnenteam stehen. Gemütlich und
 gleichzeitig   \nbelebend - wie ein Capuccino. \nAnmeldung via
 Yesticket.org \n  \n \n(Stand: 20.04.2026)
DTEND:20260711T110000Z
DTSTAMP:20260419T233249Z
DTSTART:20260711T090000Z
GEO:52.024700;8.559200
LAST-MOD:20260419T233249Z
LOCATION:Bielefeld-Mitte
STATUS:CONFIRMED
SUMMARY:Improccino
TRANSP:OPAQUE
UID:1726911
URL:https://www.bielefeld.jetzt/node/1726910
END:VEVENT
END:VCALENDAR
