BEGIN:VCALENDAR
CALSCALE:GREGORIAN
METHOD:PUBLISH
PRODID:-//IT-On.NET//bielefeld.jetzt//DE
VERSION:2.0
BEGIN:VEVENT
CLASS:PUBLIC
CREATED:20260420T183626Z
DESCRIPTION:https://www.bielefeld.jetzt/node/1726918\n\nMocktails\,
 Loungemusik und Shopping. \nDIE PERFEKTE KOMBINATION \nAb 18.00 Uhr bei
 Kato\, Gehrenberg 20 \n \n(Stand: 20.04.2026)
DTSTAMP:20260420T064202Z
DTSTART:20260425T160000Z
GEO:52.019061;8.532539
LAST-MOD:20260420T064202Z
LOCATION:Quartier Fünf
STATUS:CONFIRMED
SUMMARY:Lounge-Night bei Kato
TRANSP:OPAQUE
UID:1726919
URL:https://www.bielefeld.jetzt/node/1726918
END:VEVENT
END:VCALENDAR
