BEGIN:VCALENDAR
CALSCALE:GREGORIAN
METHOD:PUBLISH
PRODID:-//IT-On.NET//bielefeld.jetzt//DE
VERSION:2.0
BEGIN:VEVENT
CLASS:PUBLIC
CREATED:20260420T200941Z
DESCRIPTION:https://www.bielefeld.jetzt/node/1726923\n\nDas Act2Sustain
 Subteam „Flohmarkt & Co.“ wird am Samstag\, dem 9. Mai   \n2026\, in
 der Magistrale im HSBI-Hauptgebäude von 10.00 bis erstmals 14.00   \nUhr
 den nächsten Act2Sustain-Flohmarkt veranstalten. \nAuf Wunsch haben wir
 diesmal die Verkaufszeiten verlängert. \nSie werden wieder die
 Gelegenheit haben\, gebrauchte Gegenstände und   \nKleidungsartikel zu
 fairen Preisen an einem eigenen Stand anzubieten und   \nihnen so eine
 Weiterverwendung zu ermöglichen. \n \n(Stand: 20.04.2026)
DTEND:20260509T120000Z
DTSTAMP:20260420T090702Z
DTSTART:20260509T080000Z
GEO:52.044462;8.492716
LAST-MOD:20260420T090702Z
LOCATION:Hochschule Bielefeld (HSBI)
STATUS:CONFIRMED
SUMMARY:Nachhaltigkeitsflohmarkt in der Hochschule Bielefeld
TRANSP:OPAQUE
UID:1726924
URL:https://www.bielefeld.jetzt/node/1726923
END:VEVENT
END:VCALENDAR
