BEGIN:VCALENDAR
CALSCALE:GREGORIAN
METHOD:PUBLISH
PRODID:-//IT-On.NET//bielefeld.jetzt//DE
VERSION:2.0
BEGIN:VEVENT
CLASS:PUBLIC
CREATED:20260420T200941Z
DESCRIPTION:https://www.bielefeld.jetzt/node/1726925\n\nPiano & Wein –
 ein Abend im Studio Nordpark \nEin besonderer Abend in ruhiger\,
 stilvoller Atmosphäre - Klaviermusik bei   \nKerzenschein\, begleitet von
 einem guten Glas Wein. \nAm 29. Mai um 19:00 Uhr erwartet Sie im Studio
 Nordpark ein Klavierabend bei   \nKerzenschein – begleitet von einem
 guten Glas Wein und kleinen   \nKöstlichkeiten. \nDer Pianist Emil Schulz
 spielt ausgewählte Stücke – mal ruhig und   \ngetragen\, mal lebendig
 und ausdrucksstark. \nEinlass ab 18:30 Uhr. \nDie Plätze sind begrenzt.
 \nEintritt: 15 € \nReservierung telefonisch oder per E-Mail. \nZahlung
 erfolgt vor Ort. \n📞 0174 2563000 \n✉️ studionordpark@gmail.com
 \n  \n \n(Stand: 20.04.2026)
DTEND:20260529T190000Z
DTSTAMP:20260420T090837Z
DTSTART:20260529T170000Z
GEO:52.049700;8.518100
LAST-MOD:20260420T090837Z
LOCATION:Bielefeld-Schildesche
STATUS:CONFIRMED
SUMMARY:Piano & Wein - ein Abend im Studio Nordpark
TRANSP:OPAQUE
UID:1726926
URL:https://www.bielefeld.jetzt/node/1726925
END:VEVENT
END:VCALENDAR
