BEGIN:VCALENDAR
CALSCALE:GREGORIAN
METHOD:PUBLISH
PRODID:-//IT-On.NET//bielefeld.jetzt//DE
VERSION:2.0
BEGIN:VEVENT
CLASS:PUBLIC
CREATED:20260420T183004Z
DESCRIPTION:https://www.bielefeld.jetzt/node/1726928\n\nProgramm: \n10:00
 Begrüßung \n10:15 Vorträge I Biblische Perspektiven \n- Georg Steins:
 Stellvertretung - ein dunkles Versöhnungswort? Gedanken in   \nder \nSpur
 des Propheten Jesaja \n- Heinrich Schäfer: Wozu taugt die Bergpredigt?
 \n- Thomas Nauerth: Schwerter zu Pflugscharen: Doppelt verheißen\,
 doppelt   \ngültig? \n12:00 Friedensgebet am Mittag \n12:30 Mittagessen
 \n14:00 Vorträge II Systematische Perspektiven \n- Egon Spiegel:
 Friedensaktivismus auf der Basis von Emuna \n- Peter Bürger: Der Demiurg
 der Gnostiker ist in Wirklichkeit die Gottheit   \nder \nStaatsreligion
 \n- Gottried Orth: Die Barmer Theologische Erklärung heute – eine
 Einübung   \nzur \nBekenntnisfähigkeit \n- Klaus Hagedorn: "Sich
 weigern\, Feinde zu sein“ – Aktive Gewaltfreiheit   \nin Zeiten von
 \nUnfrieden und Krieg \n16:00 Kaffeepause \n16:30 Runder Tisch: Zum
 Auftrag von Theologie und Kirche in der aktuellen   \nSituation
 \nModeration: Bertold Becker \nEintritt frei. Um Spenden wird am Ausgang
 gebeten. \nAnmeldung zur besseren Planung der Verpflegung:
 \nsymposium.friedenstheologie@freenet.de \n \n(Stand: 20.04.2026)
DTEND:20260613T160000Z
DTSTAMP:20260420T095005Z
DTSTART:20260613T073000Z
GEO:52.022400;8.530680
LAST-MOD:20260420T095005Z
LOCATION:Süsterkirche (ev.-ref.)
STATUS:CONFIRMED
SUMMARY:Symposium Friedenstheologie
TRANSP:OPAQUE
UID:1726929
URL:https://www.bielefeld.jetzt/node/1726928
END:VEVENT
END:VCALENDAR
